{
 "extent": {
  "ymin": 4133639.3051311844,
  "xmin": 762860.17861535703,
  "ymax": 4134607.338414418,
  "xmax": 763771.26876428281,
  "spatialReference": {
   "latestVcsWkid": 5773,
   "latestWkid": 32615,
   "wkid": 32615,
   "vcsWkid": 5773
  }
 },
 "blockWidth": 128,
 "mosaicOperator": "First",
 "serviceSourceType": "esriImageServiceSourceTypeDataset",
 "hasMultidimensions": false,
 "maxImageWidth": 15000,
 "meanValues": [
  71.542010896970993,
  69.912586569875998,
  60.225220249953999,
  180.34470749998999
 ],
 "hasColormap": false,
 "compressionType": "LZW",
 "defaultCompressionQuality": 75,
 "maxValues": [
  255,
  255,
  255,
  255
 ],
 "hasHistograms": true,
 "datasetFormat": "TIFF",
 "maxImageHeight": 4100,
 "sortField": "",
 "bandNames": [
  "Band_1",
  "Band_2",
  "Band_3",
  "Band_4"
 ],
 "spatialReference": {
  "latestVcsWkid": 5773,
  "latestWkid": 32615,
  "wkid": 32615,
  "vcsWkid": 5773
 },
 "fullExtent": {
  "ymin": 4133639.3051311844,
  "xmin": 762860.17861535703,
  "ymax": 4134607.338414418,
  "xmax": 763771.26876428281,
  "spatialReference": {
   "latestVcsWkid": 5773,
   "latestWkid": 32615,
   "wkid": 32615,
   "vcsWkid": 5773
  }
 },
 "bandCount": 4,
 "rasterFunctionInfos": [
  {
   "help": "",
   "name": "None",
   "description": ""
  }
 ],
 "supportsStatistics": false,
 "sortableFields": "",
 "minValues": [
  0,
  0,
  0,
  0
 ],
 "allowRasterFunction": true,
 "allowComputeTiePoints": false,
 "serviceDataType": "esriImageServiceDataTypeGeneric",
 "supportsAdvancedQueries": false,
 "currentVersion": 12,
 "heightModelInfo": {
  "vertCRS": "EGM96_height",
  "heightModel": "gravity_related_height",
  "heightUnit": "meter"
 },
 "sortValue": null,
 "objectIdField": "",
 "blockHeight": 128,
 "initialExtent": {
  "ymin": 4133639.3051311844,
  "xmin": 762860.17861535703,
  "ymax": 4134607.338414418,
  "xmax": 763771.26876428281,
  "spatialReference": {
   "latestVcsWkid": 5773,
   "latestWkid": 32615,
   "wkid": 32615,
   "vcsWkid": 5773
  }
 },
 "pixelSizeX": 0.056943134307861326,
 "pixelSizeY": 0.056943134307861326,
 "defaultMosaicMethod": "Center",
 "name": "Bollinger_CO/GlenAllen_2026Ortho",
 "allowedMosaicMethods": "",
 "fields": [],
 "allowAnalysis": true,
 "hasRasterAttributeTable": false,
 "useStandardizedQueries": false,
 "description": "",
 "pixelType": "U8",
 "meanPixelSize": 0.056943134307861326,
 "exportTilesAllowed": false,
 "editFieldsInfo": null,
 "rasterTypeInfos": [
  {
   "help": "",
   "name": "Raster Dataset",
   "description": "Supports all ArcGIS Raster Datasets"
  }
 ],
 "defaultResamplingMethod": "Bilinear",
 "itemAccess": false,
 "minScale": 0,
 "serviceProperties": "Center<\/MosaicMethod>First<\/MosaicOperator>true<\/SortAscending><\/LockImageID><\/TileOrderField>0<\/TileOrderBase>0.000000<\/AvgImageSpacingX>0.000000<\/AvgImageSpacingY>0.0<\/ViewPointX>0.0<\/ViewPointY>0.0<\/ViewPointDefShiftX>0.0<\/ViewPointDefShiftY>None<\/CompressionMethod>75<\/CompressionQuality>0.010000<\/CompressionTolerance>Bilinear<\/SamplingMethod><\/ImageServiceProperties><\/ImageServer>",
 "advancedQueryCapabilities": {
  "supportsStatistics": false,
  "supportsSqlExpression": false,
  "supportsOrderBy": false,
  "useStandardizedQueries": false,
  "supportsPagination": false,
  "supportsDistinct": false
 },
 "serviceItemId": "5d397ec223654018a21ef1a821da19e2",
 "capabilities": "Image,Metadata,Mensuration",
 "maxScale": 0,
 "stdvValues": [
  56.753560751892003,
  54.520900785157998,
  50.692885169279997,
  116.03312862600001
 ],
 "allowedFields": "",
 "minPixelSize": 0,
 "sortAscending": true,
 "inspectionCapabilities": "",
 "maxPixelSize": 0,
 "uncompressedSize": 1088000000,
 "serviceDescription": "Bollinger_CO/GlenAllen_2026Ortho",
 "allowCopy": true,
 "copyrightText": "",
 "mensurationCapabilities": "Basic",
 "ownershipBasedAccessControlForRasters": null
}
