View In:
ArcGIS JavaScript
ArcGIS Online Map Viewer
ArcGIS Earth
Service Description: Bollinger_CO/GlenAllen_2026Ortho
Name: Bollinger_CO/GlenAllen_2026Ortho
Description:
Single Fused Map Cache: false
Extent:
XMin: 762860.178615357
YMin: 4133639.3051311844
XMax: 763771.2687642828
YMax: 4134607.338414418
Spatial Reference: 32615
(32615)
VCSWkid(5773)
LatestVCSWkid(5773)
Initial Extent:
XMin: 762860.178615357
YMin: 4133639.3051311844
XMax: 763771.2687642828
YMax: 4134607.338414418
Spatial Reference: 32615
(32615)
VCSWkid(5773)
LatestVCSWkid(5773)
Full Extent:
XMin: 762860.178615357
YMin: 4133639.3051311844
XMax: 763771.2687642828
YMax: 4134607.338414418
Spatial Reference: 32615
(32615)
VCSWkid(5773)
LatestVCSWkid(5773)
Pixel Size X: 0.056943134307861326
Pixel Size Y: 0.056943134307861326
Band Count: 4
Pixel Type: U8
RasterFunction Infos: {"rasterFunctionInfos": [{
"help": "",
"name": "None",
"description": ""
}]}
Mensuration Capabilities: Basic
Inspection Capabilities:
Has Histograms: true
Has Colormap: false
Has Multi Dimensions : false
Rendering Rule:
Min Scale: 0
Max Scale: 0
Copyright Text:
Service Data Type: esriImageServiceDataTypeGeneric
Min Values: 0, 0, 0, 0
Max Values: 255, 255, 255, 255
Mean Values: 71.542010896970993, 69.912586569875998, 60.225220249953999, 180.34470749998999
Standard Deviation Values: 56.753560751892003, 54.520900785157998, 50.692885169279997, 116.03312862600001
Object ID Field:
Fields:
None
Default Mosaic Method: Center
Allowed Mosaic Methods:
SortField:
SortValue: N/A
Mosaic Operator: First
Default Compression Quality: 75
Default Resampling Method: Bilinear
Max Record Count: null
Max Image Height: 4100
Max Image Width: 15000
Max Download Image Count: null
Max Mosaic Image Count: null
Allow Raster Function: true
Allow Copy: true
Allow Analysis: true
Allow Compute TiePoints: false
Supports Statistics: false
Supports Advanced Queries: false
Use StandardizedQueries: false
Raster Type Infos:
Name: Raster Dataset
Description: Supports all ArcGIS Raster Datasets
Help:
Has Raster Attribute Table: false
Edit Fields Info: N/A
Ownership Based AccessControl For Rasters: N/A
Child Resources:
Info
Histograms
Statistics
Key Properties
Legend
Raster Function Infos
Supported Operations:
Export Image
Identify
Measure
Compute Histograms
Compute Statistics Histograms
Get Samples
Compute Class Statistics
Query Boundary
Compute Pixel Location
Compute Angles
Validate
Project